BEGIN:VCALENDAR
VERSION:2.0
PRODID:-//Fishers Island Waste Management District - ECPv6.15.17.1//NONSGML v1.0//EN
CALSCALE:GREGORIAN
METHOD:PUBLISH
X-ORIGINAL-URL:https://fiwmd.net
X-WR-CALDESC:Events for Fishers Island Waste Management District
REFRESH-INTERVAL;VALUE=DURATION:PT1H
X-Robots-Tag:noindex
X-PUBLISHED-TTL:PT1H
BEGIN:VTIMEZONE
TZID:America/New_York
BEGIN:DAYLIGHT
TZOFFSETFROM:-0500
TZOFFSETTO:-0400
TZNAME:EDT
DTSTART:20230312T070000
END:DAYLIGHT
BEGIN:STANDARD
TZOFFSETFROM:-0400
TZOFFSETTO:-0500
TZNAME:EST
DTSTART:20231105T060000
END:STANDARD
BEGIN:DAYLIGHT
TZOFFSETFROM:-0500
TZOFFSETTO:-0400
TZNAME:EDT
DTSTART:20240310T070000
END:DAYLIGHT
BEGIN:STANDARD
TZOFFSETFROM:-0400
TZOFFSETTO:-0500
TZNAME:EST
DTSTART:20241103T060000
END:STANDARD
BEGIN:DAYLIGHT
TZOFFSETFROM:-0500
TZOFFSETTO:-0400
TZNAME:EDT
DTSTART:20250309T070000
END:DAYLIGHT
BEGIN:STANDARD
TZOFFSETFROM:-0400
TZOFFSETTO:-0500
TZNAME:EST
DTSTART:20251102T060000
END:STANDARD
END:VTIMEZONE
BEGIN:VEVENT
DTSTART;TZID=America/New_York:20240630T160000
DTEND;TZID=America/New_York:20240630T170000
DTSTAMP:20260419T180738
CREATED:20240423T185125Z
LAST-MODIFIED:20240423T190728Z
UID:10000027-1719763200-1719766800@fiwmd.net
SUMMARY:HLFM Talk: The Deep Impacts of Composting
DESCRIPTION:Join us at the Henry L. Ferguson Museum for an illustrated talk by lifelong composter\, Jayne Merner\, from Earth Care Farm in Charlestown\, RI\n\n\n\nHave you ever wondered what the big fuss is about composting\, or how compost actually impacts our ecosystem? Jayne Merner will paint a picture of the lasting effects compost has on our world. Come learn how compost can help with erosion and other coastal resiliency challenges. \n\n\n\nWHEN: Sunday\, June 30\, 2024TIME: 4 p.m.PLACE: The Museum\, 2nd floor \n\n\n\n \n\n\n\nCo-hosted by Fishers Island Waste Managementand The Henry L. Ferguson Museum
URL:https://fiwmd.net/event/hlfm-talk-the-deep-impacts-of-composting/
LOCATION:HLF Museum
CATEGORIES:Event
ATTACH;FMTTYPE=image/jpeg:https://fiwmd.net/wp-content/uploads/2024/04/Jayne_Merner_HighTunnel_34268.jpg
END:VEVENT
END:VCALENDAR