BEGIN:VCALENDAR
VERSION:2.0
PRODID:-//Fishers Island Waste Management District - ECPv6.15.20//NONSGML v1.0//EN
CALSCALE:GREGORIAN
METHOD:PUBLISH
X-ORIGINAL-URL:https://fiwmd.net
X-WR-CALDESC:Events for Fishers Island Waste Management District
REFRESH-INTERVAL;VALUE=DURATION:PT1H
X-Robots-Tag:noindex
X-PUBLISHED-TTL:PT1H
BEGIN:VTIMEZONE
TZID:America/New_York
BEGIN:DAYLIGHT
TZOFFSETFROM:-0500
TZOFFSETTO:-0400
TZNAME:EDT
DTSTART:20240310T070000
END:DAYLIGHT
BEGIN:STANDARD
TZOFFSETFROM:-0400
TZOFFSETTO:-0500
TZNAME:EST
DTSTART:20241103T060000
END:STANDARD
BEGIN:DAYLIGHT
TZOFFSETFROM:-0500
TZOFFSETTO:-0400
TZNAME:EDT
DTSTART:20250309T070000
END:DAYLIGHT
BEGIN:STANDARD
TZOFFSETFROM:-0400
TZOFFSETTO:-0500
TZNAME:EST
DTSTART:20251102T060000
END:STANDARD
BEGIN:DAYLIGHT
TZOFFSETFROM:-0500
TZOFFSETTO:-0400
TZNAME:EDT
DTSTART:20260308T070000
END:DAYLIGHT
BEGIN:STANDARD
TZOFFSETFROM:-0400
TZOFFSETTO:-0500
TZNAME:EST
DTSTART:20261101T060000
END:STANDARD
BEGIN:DAYLIGHT
TZOFFSETFROM:-0500
TZOFFSETTO:-0400
TZNAME:EDT
DTSTART:20270314T070000
END:DAYLIGHT
BEGIN:STANDARD
TZOFFSETFROM:-0400
TZOFFSETTO:-0500
TZNAME:EST
DTSTART:20271107T060000
END:STANDARD
END:VTIMEZONE
BEGIN:VEVENT
DTSTART;TZID=America/New_York:20260415T123000
DTEND;TZID=America/New_York:20260415T143000
DTSTAMP:20260421T085608
CREATED:20251218T145702Z
LAST-MODIFIED:20251218T145702Z
UID:10000103-1776256200-1776263400@fiwmd.net
SUMMARY:FIWMD Meeting
DESCRIPTION:FIWMD Meetings are held the 3rd Wednesday of each month. \n12:30-2:30 pm at the Community Center + on Zoom \n\nJoin via Zoom
URL:https://fiwmd.net/event/fiwmd-meeting-22/2026-04-15/
LOCATION:Community Center\, 66 Hound Ln\, Fishers Island\, NY\, 06390\, United States
CATEGORIES:Meeting
END:VEVENT
BEGIN:VEVENT
DTSTART;TZID=America/New_York:20260408T123000
DTEND;TZID=America/New_York:20260408T143000
DTSTAMP:20260421T085608
CREATED:20260402T160342Z
LAST-MODIFIED:20260402T160342Z
UID:10000117-1775651400-1775658600@fiwmd.net
SUMMARY:FIWMD Special Meeting
DESCRIPTION:FIWMD Meetings are usually held the 3rd Wednesday of each month. \n12:30-2:30 pm at the Community Center + on Zoom \n\nJoin via Zoom
URL:https://fiwmd.net/event/fiwmd-special-meeting-8/
LOCATION:Community Center\, 66 Hound Ln\, Fishers Island\, NY\, 06390\, United States
CATEGORIES:Meeting
END:VEVENT
BEGIN:VEVENT
DTSTART;TZID=America/New_York:20260401T123000
DTEND;TZID=America/New_York:20260401T143000
DTSTAMP:20260421T085608
CREATED:20251218T145407Z
LAST-MODIFIED:20251218T145407Z
UID:10000091-1775046600-1775053800@fiwmd.net
SUMMARY:FIWMD Workshop
DESCRIPTION:FIWMD Workshops are held the 1st Wednesday of each month. \n12:30-2:30 pm at the Community Center + on Zoom \n\nJoin via Zoom
URL:https://fiwmd.net/event/fiwmd-workshop-23/2026-04-01/
LOCATION:Community Center\, 66 Hound Ln\, Fishers Island\, NY\, 06390\, United States
CATEGORIES:Workshop
END:VEVENT
BEGIN:VEVENT
DTSTART;TZID=America/New_York:20260401T100000
DTEND;TZID=America/New_York:20260401T120000
DTSTAMP:20260421T085608
CREATED:20260331T162607Z
LAST-MODIFIED:20260331T163212Z
UID:10000116-1775037600-1775044800@fiwmd.net
SUMMARY:Strategic Planning Workshop
DESCRIPTION:FI Waste Management will be holding a special meeting for a Strategic Planning Workshop on April 1st. The regular meeting remains as scheduled 12:30-2:30 pm. \nat the Community Center + on Zoom \n\nJoin via Zoom
URL:https://fiwmd.net/event/strategic-planning-workshop/
LOCATION:NY
CATEGORIES:Workshop
END:VEVENT
BEGIN:VEVENT
DTSTART;TZID=America/New_York:20260318T123000
DTEND;TZID=America/New_York:20260318T143000
DTSTAMP:20260421T085608
CREATED:20251218T145702Z
LAST-MODIFIED:20251218T145702Z
UID:10000102-1773837000-1773844200@fiwmd.net
SUMMARY:FIWMD Meeting
DESCRIPTION:FIWMD Meetings are held the 3rd Wednesday of each month. \n12:30-2:30 pm at the Community Center + on Zoom \n\nJoin via Zoom
URL:https://fiwmd.net/event/fiwmd-meeting-22/2026-03-18/
LOCATION:Community Center\, 66 Hound Ln\, Fishers Island\, NY\, 06390\, United States
CATEGORIES:Meeting
END:VEVENT
BEGIN:VEVENT
DTSTART;TZID=America/New_York:20260304T123000
DTEND;TZID=America/New_York:20260304T143000
DTSTAMP:20260421T085608
CREATED:20251218T145407Z
LAST-MODIFIED:20251218T145407Z
UID:10000090-1772627400-1772634600@fiwmd.net
SUMMARY:FIWMD Workshop
DESCRIPTION:FIWMD Workshops are held the 1st Wednesday of each month. \n12:30-2:30 pm at the Community Center + on Zoom \n\nJoin via Zoom
URL:https://fiwmd.net/event/fiwmd-workshop-23/2026-03-04/
LOCATION:Community Center\, 66 Hound Ln\, Fishers Island\, NY\, 06390\, United States
CATEGORIES:Workshop
END:VEVENT
BEGIN:VEVENT
DTSTART;VALUE=DATE:20260225
DTEND;VALUE=DATE:20260226
DTSTAMP:20260421T085608
CREATED:20260225T104025Z
LAST-MODIFIED:20260225T104109Z
UID:10000114-1771977600-1772063999@fiwmd.net
SUMMARY:Compost Station CLOSED Due to Snow Cleanup
DESCRIPTION:Due to ongoing snow cleanup\, the Compost Station will be closed today. We apologize for the inconvenience.
URL:https://fiwmd.net/event/compost-station-closed-due-to-snow-cleanup/
LOCATION:NY
CATEGORIES:Closure
END:VEVENT
BEGIN:VEVENT
DTSTART;VALUE=DATE:20260224
DTEND;VALUE=DATE:20260225
DTSTAMP:20260421T085608
CREATED:20260223T135244Z
LAST-MODIFIED:20260223T135244Z
UID:10000113-1771891200-1771977599@fiwmd.net
SUMMARY:Transfer and Compost Stations Closed
DESCRIPTION:NOTICE \nMonday & Tuesday\, Feb 23 & 24: Due to blizzard conditions and cleanup\, the Transfer and Compost Stations will be closed. \nWe apologize for the inconvenience.
URL:https://fiwmd.net/event/transfer-and-compost-stations-closed-3/
LOCATION:NY
CATEGORIES:Closure
END:VEVENT
BEGIN:VEVENT
DTSTART;VALUE=DATE:20260223
DTEND;VALUE=DATE:20260224
DTSTAMP:20260421T085608
CREATED:20260223T135202Z
LAST-MODIFIED:20260223T135202Z
UID:10000112-1771804800-1771891199@fiwmd.net
SUMMARY:Transfer and Compost Stations Closed
DESCRIPTION:NOTICE\nMonday & Tuesday\, Feb 23 & 24: Due to blizzard conditions and cleanup\, the Transfer and Compost Stations will be closed.\nWe apologize for the inconvenience.
URL:https://fiwmd.net/event/transfer-and-compost-stations-closed-2/
LOCATION:NY
CATEGORIES:Closure
END:VEVENT
BEGIN:VEVENT
DTSTART;TZID=America/New_York:20260218T123000
DTEND;TZID=America/New_York:20260218T143000
DTSTAMP:20260421T085608
CREATED:20251218T145702Z
LAST-MODIFIED:20251218T145702Z
UID:10000101-1771417800-1771425000@fiwmd.net
SUMMARY:FIWMD Meeting
DESCRIPTION:FIWMD Meetings are held the 3rd Wednesday of each month. \n12:30-2:30 pm at the Community Center + on Zoom \n\nJoin via Zoom
URL:https://fiwmd.net/event/fiwmd-meeting-22/2026-02-18/
LOCATION:Community Center\, 66 Hound Ln\, Fishers Island\, NY\, 06390\, United States
CATEGORIES:Meeting
END:VEVENT
BEGIN:VEVENT
DTSTART;TZID=America/New_York:20260204T123000
DTEND;TZID=America/New_York:20260204T143000
DTSTAMP:20260421T085608
CREATED:20251218T145407Z
LAST-MODIFIED:20251218T145407Z
UID:10000089-1770208200-1770215400@fiwmd.net
SUMMARY:FIWMD Workshop
DESCRIPTION:FIWMD Workshops are held the 1st Wednesday of each month. \n12:30-2:30 pm at the Community Center + on Zoom \n\nJoin via Zoom
URL:https://fiwmd.net/event/fiwmd-workshop-23/2026-02-04/
LOCATION:Community Center\, 66 Hound Ln\, Fishers Island\, NY\, 06390\, United States
CATEGORIES:Workshop
END:VEVENT
BEGIN:VEVENT
DTSTART;TZID=America/New_York:20260121T123000
DTEND;TZID=America/New_York:20260121T143000
DTSTAMP:20260421T085608
CREATED:20251218T145702Z
LAST-MODIFIED:20251218T145702Z
UID:10000100-1768998600-1769005800@fiwmd.net
SUMMARY:FIWMD Meeting
DESCRIPTION:FIWMD Meetings are held the 3rd Wednesday of each month. \n12:30-2:30 pm at the Community Center + on Zoom \n\nJoin via Zoom
URL:https://fiwmd.net/event/fiwmd-meeting-22/2026-01-21/
LOCATION:Community Center\, 66 Hound Ln\, Fishers Island\, NY\, 06390\, United States
CATEGORIES:Meeting
END:VEVENT
BEGIN:VEVENT
DTSTART;TZID=America/New_York:20260107T123000
DTEND;TZID=America/New_York:20260107T143000
DTSTAMP:20260421T085608
CREATED:20251218T145407Z
LAST-MODIFIED:20251218T145407Z
UID:10000088-1767789000-1767796200@fiwmd.net
SUMMARY:FIWMD Workshop
DESCRIPTION:FIWMD Workshops are held the 1st Wednesday of each month. \n12:30-2:30 pm at the Community Center + on Zoom \n\nJoin via Zoom
URL:https://fiwmd.net/event/fiwmd-workshop-23/2026-01-07/
LOCATION:Community Center\, 66 Hound Ln\, Fishers Island\, NY\, 06390\, United States
CATEGORIES:Workshop
END:VEVENT
BEGIN:VEVENT
DTSTART;TZID=America/New_York:20251217T123000
DTEND;TZID=America/New_York:20251217T143000
DTSTAMP:20260421T085608
CREATED:20251128T105057Z
LAST-MODIFIED:20251128T105057Z
UID:10000087-1765974600-1765981800@fiwmd.net
SUMMARY:FIWMD Meeting
DESCRIPTION:FIWMD Meetings are held the 3rd Wednesday of each month. \n12:30-2:30 pm at the Community Center + on Zoom \n\nJoin via Zoom
URL:https://fiwmd.net/event/fiwmd-meeting-21/
LOCATION:Community Center\, 66 Hound Ln\, Fishers Island\, NY\, 06390\, United States
CATEGORIES:Meeting
END:VEVENT
BEGIN:VEVENT
DTSTART;TZID=America/New_York:20251203T123000
DTEND;TZID=America/New_York:20251203T143000
DTSTAMP:20260421T085608
CREATED:20251107T110242Z
LAST-MODIFIED:20251107T110242Z
UID:10000086-1764765000-1764772200@fiwmd.net
SUMMARY:FIWMD Workshop
DESCRIPTION:FIWMD Workshops are held the 1st Wednesday of each month. \n12:30-2:30 pm at the Community Center + on Zoom \n\nJoin via Zoom
URL:https://fiwmd.net/event/fiwmd-workshop-22/
LOCATION:Community Center\, 66 Hound Ln\, Fishers Island\, NY\, 06390\, United States
CATEGORIES:Workshop
END:VEVENT
BEGIN:VEVENT
DTSTART;TZID=America/New_York:20251119T123000
DTEND;TZID=America/New_York:20251119T143000
DTSTAMP:20260421T085608
CREATED:20250821T140816Z
LAST-MODIFIED:20250821T140816Z
UID:10000082-1763555400-1763562600@fiwmd.net
SUMMARY:FIWMD Meeting
DESCRIPTION:FIWMD Meetings are held the 3rd Wednesday of each month. \n12:30-2:30 pm at the Community Center + on Zoom \n\nJoin via Zoom
URL:https://fiwmd.net/event/fiwmd-meeting-20/
LOCATION:Community Center\, 66 Hound Ln\, Fishers Island\, NY\, 06390\, United States
CATEGORIES:Meeting
END:VEVENT
BEGIN:VEVENT
DTSTART;TZID=America/New_York:20251105T123000
DTEND;TZID=America/New_York:20251105T143000
DTSTAMP:20260421T085608
CREATED:20250821T140723Z
LAST-MODIFIED:20250821T140723Z
UID:10000081-1762345800-1762353000@fiwmd.net
SUMMARY:FIWMD Workshop
DESCRIPTION:FIWMD Workshops are held the 1st Wednesday of each month. \n12:30-2:30 pm at the Community Center + on Zoom \n\nJoin via Zoom
URL:https://fiwmd.net/event/fiwmd-workshop-21/
LOCATION:Community Center\, 66 Hound Ln\, Fishers Island\, NY\, 06390\, United States
CATEGORIES:Workshop
END:VEVENT
BEGIN:VEVENT
DTSTART;TZID=America/New_York:20251022T123000
DTEND;TZID=America/New_York:20251022T143000
DTSTAMP:20260421T085608
CREATED:20251017T185607Z
LAST-MODIFIED:20251017T185804Z
UID:10000085-1761136200-1761143400@fiwmd.net
SUMMARY:FIWMD Special Meeting
DESCRIPTION:FIWMD Meetings are usually held the 3rd Wednesday of each month. \n12:30-2:30 pm at the Community Center + on Zoom \n\nJoin via Zoom
URL:https://fiwmd.net/event/fiwmd-special-meeting-7/
LOCATION:Community Center\, 66 Hound Ln\, Fishers Island\, NY\, 06390\, United States
CATEGORIES:Meeting
END:VEVENT
BEGIN:VEVENT
DTSTART;TZID=America/New_York:20251015T123000
DTEND;TZID=America/New_York:20251015T143000
DTSTAMP:20260421T085608
CREATED:20250821T140615Z
LAST-MODIFIED:20250821T140615Z
UID:10000080-1760531400-1760538600@fiwmd.net
SUMMARY:FIWMD Meeting
DESCRIPTION:FIWMD Meetings are held the 3rd Wednesday of each month. \n12:30-2:30 pm at the Community Center + on Zoom \n\nJoin via Zoom
URL:https://fiwmd.net/event/fiwmd-meeting-19/
LOCATION:Community Center\, 66 Hound Ln\, Fishers Island\, NY\, 06390\, United States
CATEGORIES:Meeting
END:VEVENT
BEGIN:VEVENT
DTSTART;TZID=America/New_York:20251001T123000
DTEND;TZID=America/New_York:20251001T143000
DTSTAMP:20260421T085608
CREATED:20250821T140513Z
LAST-MODIFIED:20250821T140513Z
UID:10000079-1759321800-1759329000@fiwmd.net
SUMMARY:FIWMD Workshop
DESCRIPTION:FIWMD Workshops are held the 1st Wednesday of each month. \n12:30-2:30 pm at the Community Center + on Zoom \n\nJoin via Zoom
URL:https://fiwmd.net/event/fiwmd-workshop-20/
LOCATION:Community Center\, 66 Hound Ln\, Fishers Island\, NY\, 06390\, United States
CATEGORIES:Workshop
END:VEVENT
BEGIN:VEVENT
DTSTART;TZID=America/New_York:20250922T123000
DTEND;TZID=America/New_York:20250922T143000
DTSTAMP:20260421T085608
CREATED:20250710T132317Z
LAST-MODIFIED:20250916T130359Z
UID:10000076-1758544200-1758551400@fiwmd.net
SUMMARY:FIWMD Meeting
DESCRIPTION:FIWMD Meetings are usually held the 3rd Wednesday of each month. \n12:30-2:30 pm at the Community Center + on Zoom \n\nJoin via Zoom
URL:https://fiwmd.net/event/fiwmd-meeting-18/
LOCATION:Community Center\, 66 Hound Ln\, Fishers Island\, NY\, 06390\, United States
CATEGORIES:Meeting
END:VEVENT
BEGIN:VEVENT
DTSTART;TZID=America/New_York:20250910T123000
DTEND;TZID=America/New_York:20250910T133000
DTSTAMP:20260421T085608
CREATED:20250825T142448Z
LAST-MODIFIED:20250827T194235Z
UID:10000084-1757507400-1757511000@fiwmd.net
SUMMARY:Public Draft Budget Meeting
DESCRIPTION:FIWMD PUBLIC DRAFT BUDGET MEETING \nSeptember 10\, 2025\n12:30 PM–1:30 PM\nCommunity Center + Zoom \n\nJoin via Zoom\n 
URL:https://fiwmd.net/event/public-draft-budget-meeting/
LOCATION:Community Center\, 66 Hound Ln\, Fishers Island\, NY\, 06390\, United States
CATEGORIES:Meeting
END:VEVENT
BEGIN:VEVENT
DTSTART;TZID=America/New_York:20250903T123000
DTEND;TZID=America/New_York:20250903T143000
DTSTAMP:20260421T085608
CREATED:20250710T132111Z
LAST-MODIFIED:20250710T132111Z
UID:10000074-1756902600-1756909800@fiwmd.net
SUMMARY:FIWMD Workshop
DESCRIPTION:FIWMD Workshops are held the 1st Wednesday of each month. \n12:30-2:30 pm at the Community Center + on Zoom \n\nJoin via Zoom
URL:https://fiwmd.net/event/fiwmd-workshop-19/
LOCATION:Community Center\, 66 Hound Ln\, Fishers Island\, NY\, 06390\, United States
CATEGORIES:Workshop
END:VEVENT
BEGIN:VEVENT
DTSTART;TZID=America/New_York:20250827T123000
DTEND;TZID=America/New_York:20250827T143000
DTSTAMP:20260421T085608
CREATED:20250825T142230Z
LAST-MODIFIED:20250825T142230Z
UID:10000083-1756297800-1756305000@fiwmd.net
SUMMARY:Special Meeting
DESCRIPTION:FIWMD Regular Meetings are usually held the 3rd Wednesday of each month. \n12:30-2:30 pm at the Community Center + on Zoom \n\nJoin via Zoom
URL:https://fiwmd.net/event/special-meeting-3/
LOCATION:Community Center\, 66 Hound Ln\, Fishers Island\, NY\, 06390\, United States
CATEGORIES:Meeting
END:VEVENT
BEGIN:VEVENT
DTSTART;TZID=America/New_York:20250820T123000
DTEND;TZID=America/New_York:20250820T143000
DTSTAMP:20260421T085608
CREATED:20250710T132240Z
LAST-MODIFIED:20250710T132240Z
UID:10000075-1755693000-1755700200@fiwmd.net
SUMMARY:FIWMD Meeting
DESCRIPTION:FIWMD Meetings are held the 3rd Wednesday of each month. \n12:30-2:30 pm at the Community Center + on Zoom \n\nJoin via Zoom
URL:https://fiwmd.net/event/fiwmd-meeting-17/
LOCATION:Community Center\, 66 Hound Ln\, Fishers Island\, NY\, 06390\, United States
CATEGORIES:Meeting
END:VEVENT
BEGIN:VEVENT
DTSTART;TZID=America/New_York:20250810T090000
DTEND;TZID=America/New_York:20250810T090000
DTSTAMP:20260421T085608
CREATED:20250806T132736Z
LAST-MODIFIED:20250806T133049Z
UID:10000078-1754816400-1754816400@fiwmd.net
SUMMARY:Dedication of the Janet Harvey Sanctuary
DESCRIPTION:The Henry L. Ferguson Museum invites you to join them for the dedication of their newest coastal sanctuary. This is also a celebration of an important community collaboration\, the opening of a new public trail linking Silver Eel Cove to Race Point. \nWHEN: Sunday\, August 10th at 9 AM\nWHERE: The Ordnance (road between Paddle Courts + FICC)\nWHAT: Enjoy light breakfast fare\, coffee\, and juice\, followed by brief remarks and a trail walk. \nThe Janet Harvey Sanctuary \nEstablished thanks to a license from the Fishers Island Waste Management District\, the Janet Harvey Sanctuary comprises five acres of coastal habitat and historic Fort Wright structures. It features sweeping views across Long Island Sound and inland toward two of Fort Wright’s historic batteries via a single trail accessible from either the Ordnance or runway side. \nThe Silver Eel – Race Point Coastal Trail \nThis newly completed trail fulfills a long-held community goal: making the stunning West End coastline publicly accessible. Developed through collaboration with numerous partners—the Museum\, the FI Waste Management District\, the Ferry District\, the FI Conservancy\, and Brad and Mary Burnham\, owners of the Ordnance property—it begins at the Lighthouse Works Public Art installation and travels along Ferry Park\, through the Ordnance\, and into the Janet Harvey Sanctuary. From there\, the trail leads to meadows\, rocky shoreline\, and historic emplacements\, ending at Race Point.
URL:https://fiwmd.net/event/dedication-of-the-janet-harvey-sanctuary/
LOCATION:NY
CATEGORIES:Event
ATTACH;FMTTYPE=image/jpeg:https://fiwmd.net/wp-content/uploads/2025/08/Janet-Harvey-Sanctuary-foggy-view-lr-KStevens.jpg
END:VEVENT
BEGIN:VEVENT
DTSTART;TZID=America/New_York:20250806T123000
DTEND;TZID=America/New_York:20250806T123000
DTSTAMP:20260421T085608
CREATED:20250710T132027Z
LAST-MODIFIED:20250710T132141Z
UID:10000073-1754483400-1754483400@fiwmd.net
SUMMARY:FIWMD Workshop
DESCRIPTION:FIWMD Workshops are held the 1st Wednesday of each month. \n12:30-2:30 pm at the Community Center + on Zoom \n\nJoin via Zoom
URL:https://fiwmd.net/event/fiwmd-workshop-18/
LOCATION:Community Center\, 66 Hound Ln\, Fishers Island\, NY\, 06390\, United States
CATEGORIES:Workshop
END:VEVENT
BEGIN:VEVENT
DTSTART;TZID=America/New_York:20250730T123000
DTEND;TZID=America/New_York:20250730T143000
DTSTAMP:20260421T085608
CREATED:20250715T194059Z
LAST-MODIFIED:20250715T194059Z
UID:10000077-1753878600-1753885800@fiwmd.net
SUMMARY:FIWMD Special Meeting
DESCRIPTION:FIWMD Meetings are held the 3rd Wednesday of each month. \n12:30-2:30 pm at the Community Center + on Zoom \n\nJoin via Zoom
URL:https://fiwmd.net/event/fiwmd-special-meeting-6/
LOCATION:Community Center\, 66 Hound Ln\, Fishers Island\, NY\, 06390\, United States
CATEGORIES:Meeting
END:VEVENT
BEGIN:VEVENT
DTSTART;TZID=America/New_York:20250716T123000
DTEND;TZID=America/New_York:20250716T143000
DTSTAMP:20260421T085608
CREATED:20250528T185932Z
LAST-MODIFIED:20250528T185932Z
UID:10000071-1752669000-1752676200@fiwmd.net
SUMMARY:FIWMD Meeting
DESCRIPTION:FIWMD Meetings are held the 3rd Wednesday of each month. \n12:30-2:30 pm at the Community Center + on Zoom \n\nJoin via Zoom
URL:https://fiwmd.net/event/fiwmd-meeting-16/
LOCATION:Community Center\, 66 Hound Ln\, Fishers Island\, NY\, 06390\, United States
CATEGORIES:Meeting
END:VEVENT
BEGIN:VEVENT
DTSTART;TZID=America/New_York:20250702T123000
DTEND;TZID=America/New_York:20250702T143000
DTSTAMP:20260421T085608
CREATED:20250528T185723Z
LAST-MODIFIED:20250528T185723Z
UID:10000070-1751459400-1751466600@fiwmd.net
SUMMARY:FIWMD Workshop
DESCRIPTION:FIWMD Workshops are held the 1st Wednesday of each month. \n12:30-2:30 pm at the Community Center + on Zoom \n\nJoin via Zoom
URL:https://fiwmd.net/event/fiwmd-workshop-17/
LOCATION:Community Center\, 66 Hound Ln\, Fishers Island\, NY\, 06390\, United States
CATEGORIES:Workshop
END:VEVENT
END:VCALENDAR