BEGIN:VCALENDAR
VERSION:2.0
PRODID:-//Fishers Island Waste Management District - ECPv6.15.17.1//NONSGML v1.0//EN
CALSCALE:GREGORIAN
METHOD:PUBLISH
X-WR-CALNAME:Fishers Island Waste Management District
X-ORIGINAL-URL:https://fiwmd.net
X-WR-CALDESC:Events for Fishers Island Waste Management District
REFRESH-INTERVAL;VALUE=DURATION:PT1H
X-Robots-Tag:noindex
X-PUBLISHED-TTL:PT1H
BEGIN:VTIMEZONE
TZID:America/New_York
BEGIN:DAYLIGHT
TZOFFSETFROM:-0500
TZOFFSETTO:-0400
TZNAME:EDT
DTSTART:20250309T070000
END:DAYLIGHT
BEGIN:STANDARD
TZOFFSETFROM:-0400
TZOFFSETTO:-0500
TZNAME:EST
DTSTART:20251102T060000
END:STANDARD
BEGIN:DAYLIGHT
TZOFFSETFROM:-0500
TZOFFSETTO:-0400
TZNAME:EDT
DTSTART:20260308T070000
END:DAYLIGHT
BEGIN:STANDARD
TZOFFSETFROM:-0400
TZOFFSETTO:-0500
TZNAME:EST
DTSTART:20261101T060000
END:STANDARD
BEGIN:DAYLIGHT
TZOFFSETFROM:-0500
TZOFFSETTO:-0400
TZNAME:EDT
DTSTART:20270314T070000
END:DAYLIGHT
BEGIN:STANDARD
TZOFFSETFROM:-0400
TZOFFSETTO:-0500
TZNAME:EST
DTSTART:20271107T060000
END:STANDARD
END:VTIMEZONE
BEGIN:VEVENT
DTSTART;TZID=America/New_York:20260401T100000
DTEND;TZID=America/New_York:20260401T120000
DTSTAMP:20260419T103132
CREATED:20260331T162607Z
LAST-MODIFIED:20260331T163212Z
UID:10000116-1775037600-1775044800@fiwmd.net
SUMMARY:Strategic Planning Workshop
DESCRIPTION:FI Waste Management will be holding a special meeting for a Strategic Planning Workshop on April 1st. The regular meeting remains as scheduled 12:30-2:30 pm. \nat the Community Center + on Zoom \n\nJoin via Zoom
URL:https://fiwmd.net/event/strategic-planning-workshop/
CATEGORIES:Workshop
END:VEVENT
BEGIN:VEVENT
DTSTART;TZID=America/New_York:20260401T123000
DTEND;TZID=America/New_York:20260401T143000
DTSTAMP:20260419T103132
CREATED:20251218T145407Z
LAST-MODIFIED:20251218T145407Z
UID:10000091-1775046600-1775053800@fiwmd.net
SUMMARY:FIWMD Workshop
DESCRIPTION:FIWMD Workshops are held the 1st Wednesday of each month. \n12:30-2:30 pm at the Community Center + on Zoom \n\nJoin via Zoom
URL:https://fiwmd.net/event/fiwmd-workshop-23/2026-04-01/
LOCATION:Community Center\, 66 Hound Ln\, Fishers Island\, NY\, 06390\, United States
CATEGORIES:Workshop
END:VEVENT
END:VCALENDAR