BEGIN:VCALENDAR
VERSION:2.0
PRODID:-//Fishers Island Waste Management District - ECPv6.15.17.1//NONSGML v1.0//EN
CALSCALE:GREGORIAN
METHOD:PUBLISH
X-WR-CALNAME:Fishers Island Waste Management District
X-ORIGINAL-URL:https://fiwmd.net
X-WR-CALDESC:Events for Fishers Island Waste Management District
REFRESH-INTERVAL;VALUE=DURATION:PT1H
X-Robots-Tag:noindex
X-PUBLISHED-TTL:PT1H
BEGIN:VTIMEZONE
TZID:America/New_York
BEGIN:DAYLIGHT
TZOFFSETFROM:-0500
TZOFFSETTO:-0400
TZNAME:EDT
DTSTART:20230312T070000
END:DAYLIGHT
BEGIN:STANDARD
TZOFFSETFROM:-0400
TZOFFSETTO:-0500
TZNAME:EST
DTSTART:20231105T060000
END:STANDARD
BEGIN:DAYLIGHT
TZOFFSETFROM:-0500
TZOFFSETTO:-0400
TZNAME:EDT
DTSTART:20240310T070000
END:DAYLIGHT
BEGIN:STANDARD
TZOFFSETFROM:-0400
TZOFFSETTO:-0500
TZNAME:EST
DTSTART:20241103T060000
END:STANDARD
BEGIN:DAYLIGHT
TZOFFSETFROM:-0500
TZOFFSETTO:-0400
TZNAME:EDT
DTSTART:20250309T070000
END:DAYLIGHT
BEGIN:STANDARD
TZOFFSETFROM:-0400
TZOFFSETTO:-0500
TZNAME:EST
DTSTART:20251102T060000
END:STANDARD
END:VTIMEZONE
BEGIN:VEVENT
DTSTART;TZID=America/New_York:20241210T180000
DTEND;TZID=America/New_York:20241210T210000
DTSTAMP:20260419T140828
CREATED:20241112T130435Z
LAST-MODIFIED:20241112T130731Z
UID:10000050-1733853600-1733864400@fiwmd.net
SUMMARY:FIWMD Commissioner Election
DESCRIPTION:to elect one commissioner for a five-year term\ncommencing January 1\, 2025 \nCOMMISSIONER NOMINATION INFORMATION \n\nEvery individual who is both a resident of Fishers Island and a registered voter of Southold Town\, NY is eligible to hold the office of FIWMD Commissioner.\nNominations must be submitted as a petition with the signatures of at least 25 registered voters of Southold Town\, NY to Beth Stern or Josh Theodore in the FIWMD Office\, 2760 Whistler Ave.\, Fishers Island\, NY 06390 no later than 12 pm December 2\, 2024.\nCommissioner Petitions are available at the FIWMD Office and on the Elections page of this website.\n\nVOTING INFORMATION \n\nAll registered voters of Fishers Island\, Town of Southold are eligible to vote.\nIn-person voting: 6-9 pm December 10\, 2024\, at FI Community Center\, 66 Hound Lane\, Fishers Island\, New York\nAbsentee voting: Absentee Ballot request and details available at FIWMD Office and on the Elections page of this website.\n\nThank you in advance for your participation! \nFIWMD COMMISSION \nKate Stevens\, Chair\nGordon Murphy\, Treasurer\nSarah Malinowski\, Secretary\nMere Doyen\, Community Liaison\nDavid Burnham
URL:https://fiwmd.net/event/fiwmd-commissioner-election/
LOCATION:Community Center\, 66 Hound Ln\, Fishers Island\, NY\, 06390\, United States
CATEGORIES:Election
END:VEVENT
END:VCALENDAR